BEGIN:VCALENDAR
VERSION:2.0
PRODID:-//Cumbee Center to Assist Abused Persons - ECPv5.2.1//NONSGML v1.0//EN
CALSCALE:GREGORIAN
METHOD:PUBLISH
X-WR-CALNAME:Cumbee Center to Assist Abused Persons
X-ORIGINAL-URL:https://www.cumbeecenter.org
X-WR-CALDESC:Events for Cumbee Center to Assist Abused Persons
BEGIN:VTIMEZONE
TZID:America/New_York
BEGIN:DAYLIGHT
TZOFFSETFROM:-0500
TZOFFSETTO:-0400
TZNAME:EDT
DTSTART:20220313T070000
END:DAYLIGHT
BEGIN:STANDARD
TZOFFSETFROM:-0400
TZOFFSETTO:-0500
TZNAME:EST
DTSTART:20221106T060000
END:STANDARD
END:VTIMEZONE
BEGIN:VEVENT
DTSTART;TZID=America/New_York:20221007T090000
DTEND;TZID=America/New_York:20221007T153000
DTSTAMP:20260423T185255
CREATED:20220824T093652Z
LAST-MODIFIED:20220824T101955Z
UID:3614-1665133200-1665156600@www.cumbeecenter.org
SUMMARY:2022 Conference: Thriving Together
DESCRIPTION:
URL:https://www.cumbeecenter.org/event/2022-conference-thriving-together/
LOCATION:Lessie B. Price Aiken Senior & Youth Center\, 841 Edgefield Ave NW\, Aiken\, SC\, 29801\, United States
CATEGORIES:Community,Conference,DVAM,Education
END:VEVENT
END:VCALENDAR